BEGIN:VCALENDAR
VERSION:2.0
PRODID:GIGPRESS 2.0 WORDPRESS PLUGIN
CALSCALE:GREGORIAN
X-WR-TIMEZONE:Etc/GMT
METHOD:PUBLISH
BEGIN:VTIMEZONE
TZID:GMT
BEGIN:STANDARD
DTSTART:20071028T010000
TZOFFSETTO:+0000
TZOFFSETFROM:+0000
END:STANDARD
END:VTIMEZONE
BEGIN:VEVENT
SUMMARY:Mornington Singers at Trinity College Chapel\, Dublin
DESCRIPTION:: Summer Concert. Price: € 18 / 12. 
LOCATION:Trinity College Chapel\, Dublin\, Trinity College\, College Green\, Dublin\, IE
UID:20260621T180000Z-76-alexander.jolk@gmail.com
URL:https://www.morningtonsingers.org
DTSTART;VALUE=DATE-TIME;TZID=GMT:20260621T180000Z
DTEND;VALUE=DATE-TIME;TZID=GMT:20260621T180000Z
DTSTAMP:20260423T030718Z
END:VEVENT
END:VCALENDAR